BEGIN:VCALENDAR
VERSION:2.0
PRODID:-//Dead Ink Apparel - ECPv6.15.20//NONSGML v1.0//EN
CALSCALE:GREGORIAN
METHOD:PUBLISH
X-WR-CALNAME:Dead Ink Apparel
X-ORIGINAL-URL:https://deadinkapparel.com
X-WR-CALDESC:Events for Dead Ink Apparel
REFRESH-INTERVAL;VALUE=DURATION:PT1H
X-Robots-Tag:noindex
X-PUBLISHED-TTL:PT1H
BEGIN:VTIMEZONE
TZID:UTC
BEGIN:STANDARD
TZOFFSETFROM:+0000
TZOFFSETTO:+0000
TZNAME:UTC
DTSTART:20230101T000000
END:STANDARD
END:VTIMEZONE
BEGIN:VEVENT
DTSTART;TZID=UTC:20240525T100000
DTEND;TZID=UTC:20240525T160000
DTSTAMP:20260425T110642
CREATED:20240414T093607Z
LAST-MODIFIED:20240414T093607Z
UID:116-1716631200-1716652800@deadinkapparel.com
SUMMARY:Halfway to Halloween Flea Market
DESCRIPTION:
URL:https://deadinkapparel.com/event/halfway-to-halloween-flea-market/
LOCATION:Medina County Fairgrounds\, 735 Lafayette Rd\, Medina\, OH\, United States
END:VEVENT
BEGIN:VEVENT
DTSTART;TZID=UTC:20240505T110000
DTEND;TZID=UTC:20240505T180000
DTSTAMP:20260425T110642
CREATED:20240414T093335Z
LAST-MODIFIED:20240414T093335Z
UID:112-1714906800-1714932000@deadinkapparel.com
SUMMARY:Akron Punk Rock Flea Market
DESCRIPTION:
URL:https://deadinkapparel.com/event/akron-punk-rock-flea-market/
LOCATION:Summit County Fairgrounds\, 1050 North Ave\, Tallmadge\, OH\, United States
END:VEVENT
BEGIN:VEVENT
DTSTART;TZID=UTC:20240427T120000
DTEND;TZID=UTC:20240427T200000
DTSTAMP:20260425T110642
CREATED:20240414T092920Z
LAST-MODIFIED:20240414T092920Z
UID:107-1714219200-1714248000@deadinkapparel.com
SUMMARY:World Oddities Expo
DESCRIPTION:
URL:https://deadinkapparel.com/event/world-oddities-expo/
LOCATION:Pennsylvania Convention Center\, 1101 Arch Street\, Philadelphia\, PA\, United States
END:VEVENT
BEGIN:VEVENT
DTSTART;TZID=UTC:20240418T170000
DTEND;TZID=UTC:20240418T210000
DTSTAMP:20260425T110642
CREATED:20240414T092540Z
LAST-MODIFIED:20240414T092540Z
UID:104-1713459600-1713474000@deadinkapparel.com
SUMMARY:Penguin City Night Market
DESCRIPTION:
URL:https://deadinkapparel.com/event/penguin-city-night-market/
LOCATION:Penguin City Brewing Company\, 460 E. Federal St\, Youngstown\, OH\, United States
END:VEVENT
END:VCALENDAR