BEGIN:VCALENDAR
VERSION:2.0
PRODID:-//Dead Ink Apparel - ECPv6.15.20//NONSGML v1.0//EN
CALSCALE:GREGORIAN
METHOD:PUBLISH
X-WR-CALNAME:Dead Ink Apparel
X-ORIGINAL-URL:https://deadinkapparel.com
X-WR-CALDESC:Events for Dead Ink Apparel
REFRESH-INTERVAL;VALUE=DURATION:PT1H
X-Robots-Tag:noindex
X-PUBLISHED-TTL:PT1H
BEGIN:VTIMEZONE
TZID:UTC
BEGIN:STANDARD
TZOFFSETFROM:+0000
TZOFFSETTO:+0000
TZNAME:UTC
DTSTART:20230101T000000
END:STANDARD
END:VTIMEZONE
BEGIN:VEVENT
DTSTART;TZID=UTC:20241004T160000
DTEND;TZID=UTC:20241005T233000
DTSTAMP:20260423T165101
CREATED:20240414T095933Z
LAST-MODIFIED:20240414T095933Z
UID:146-1728057600-1728171000@deadinkapparel.com
SUMMARY:Sinister Horror Fest
DESCRIPTION:
URL:https://deadinkapparel.com/event/sinister-horror-fest/
LOCATION:Skyway Drive In\, 1825 N. Leavitt Rd\, Warren\, OH\, United States
END:VEVENT
BEGIN:VEVENT
DTSTART;TZID=UTC:20240913T160000
DTEND;TZID=UTC:20240915T170000
DTSTAMP:20260423T165101
CREATED:20240414T095537Z
LAST-MODIFIED:20240414T095537Z
UID:139-1726243200-1726419600@deadinkapparel.com
SUMMARY:Horrorhound Weekend
DESCRIPTION:
URL:https://deadinkapparel.com/event/horrorhound-weekend/
LOCATION:Sharonville Convention Center\, 11355 Chester Rd\, Sharonville\, OH\, United States
END:VEVENT
BEGIN:VEVENT
DTSTART;TZID=UTC:20240817T100000
DTEND;TZID=UTC:20240817T170000
DTSTAMP:20260423T165101
CREATED:20240414T095330Z
LAST-MODIFIED:20240414T095330Z
UID:136-1723888800-1723914000@deadinkapparel.com
SUMMARY:Haunted Garage Sale
DESCRIPTION:
URL:https://deadinkapparel.com/event/haunted-garage-sale/
LOCATION:Crushers Stadium\, 2009 Baseball Blvd\, Avon\, OH\, United States
END:VEVENT
BEGIN:VEVENT
DTSTART;TZID=UTC:20240720T120000
DTEND;TZID=UTC:20240720T190000
DTSTAMP:20260423T165101
CREATED:20240414T095118Z
LAST-MODIFIED:20240414T095125Z
UID:131-1721476800-1721502000@deadinkapparel.com
SUMMARY:Halloween In July Market
DESCRIPTION:
URL:https://deadinkapparel.com/event/halloween-in-july/
LOCATION:Pickaway County Fairgrounds\, 415 Lancaster Pike\, Circleville\, OH\, United States
END:VEVENT
BEGIN:VEVENT
DTSTART;TZID=UTC:20240620T120000
DTEND;TZID=UTC:20240623T230000
DTSTAMP:20260423T165101
CREATED:20240414T094408Z
LAST-MODIFIED:20240414T094408Z
UID:127-1718884800-1719183600@deadinkapparel.com
SUMMARY:Ribs N Rock Festival
DESCRIPTION:
URL:https://deadinkapparel.com/event/ribs-n-rock-festival/
LOCATION:Southern Park Mall\, 7401 Market St.\, Boardman\, OH\, United States
END:VEVENT
BEGIN:VEVENT
DTSTART;TZID=UTC:20240607T160000
DTEND;TZID=UTC:20240609T170000
DTSTAMP:20260423T165101
CREATED:20240414T094136Z
LAST-MODIFIED:20240414T094136Z
UID:123-1717776000-1717952400@deadinkapparel.com
SUMMARY:Living Dead Weekend
DESCRIPTION:
URL:https://deadinkapparel.com/event/living-dead-weekend/
LOCATION:Monroeville Mall\, 200 Mall Circle Dr\, Monroeville\, PA\, United States
END:VEVENT
BEGIN:VEVENT
DTSTART;TZID=UTC:20240601T120000
DTEND;TZID=UTC:20240601T200000
DTSTAMP:20260423T165101
CREATED:20240414T093814Z
LAST-MODIFIED:20240414T093814Z
UID:120-1717243200-1717272000@deadinkapparel.com
SUMMARY:World Oddities Expo
DESCRIPTION:
URL:https://deadinkapparel.com/event/world-oddities-expo-2/
LOCATION:Cleveland Convention Center\, 300 Lakeside Avenue East\, Cleveland\, OH\, United States
END:VEVENT
BEGIN:VEVENT
DTSTART;TZID=UTC:20240525T100000
DTEND;TZID=UTC:20240525T160000
DTSTAMP:20260423T165101
CREATED:20240414T093607Z
LAST-MODIFIED:20240414T093607Z
UID:116-1716631200-1716652800@deadinkapparel.com
SUMMARY:Halfway to Halloween Flea Market
DESCRIPTION:
URL:https://deadinkapparel.com/event/halfway-to-halloween-flea-market/
LOCATION:Medina County Fairgrounds\, 735 Lafayette Rd\, Medina\, OH\, United States
END:VEVENT
BEGIN:VEVENT
DTSTART;TZID=UTC:20240505T110000
DTEND;TZID=UTC:20240505T180000
DTSTAMP:20260423T165101
CREATED:20240414T093335Z
LAST-MODIFIED:20240414T093335Z
UID:112-1714906800-1714932000@deadinkapparel.com
SUMMARY:Akron Punk Rock Flea Market
DESCRIPTION:
URL:https://deadinkapparel.com/event/akron-punk-rock-flea-market/
LOCATION:Summit County Fairgrounds\, 1050 North Ave\, Tallmadge\, OH\, United States
END:VEVENT
BEGIN:VEVENT
DTSTART;TZID=UTC:20240427T120000
DTEND;TZID=UTC:20240427T200000
DTSTAMP:20260423T165101
CREATED:20240414T092920Z
LAST-MODIFIED:20240414T092920Z
UID:107-1714219200-1714248000@deadinkapparel.com
SUMMARY:World Oddities Expo
DESCRIPTION:
URL:https://deadinkapparel.com/event/world-oddities-expo/
LOCATION:Pennsylvania Convention Center\, 1101 Arch Street\, Philadelphia\, PA\, United States
END:VEVENT
BEGIN:VEVENT
DTSTART;TZID=UTC:20240418T170000
DTEND;TZID=UTC:20240418T210000
DTSTAMP:20260423T165101
CREATED:20240414T092540Z
LAST-MODIFIED:20240414T092540Z
UID:104-1713459600-1713474000@deadinkapparel.com
SUMMARY:Penguin City Night Market
DESCRIPTION:
URL:https://deadinkapparel.com/event/penguin-city-night-market/
LOCATION:Penguin City Brewing Company\, 460 E. Federal St\, Youngstown\, OH\, United States
END:VEVENT
END:VCALENDAR